BEGIN:VCALENDAR
VERSION:2.0
PRODID:-//Centro Comercial Alcalá Norte - ECPv6.15.12.2//NONSGML v1.0//EN
CALSCALE:GREGORIAN
METHOD:PUBLISH
X-WR-CALNAME:Centro Comercial Alcalá Norte
X-ORIGINAL-URL:https://alcalanorte.com
X-WR-CALDESC:Eventos para Centro Comercial Alcalá Norte
REFRESH-INTERVAL;VALUE=DURATION:PT1H
X-Robots-Tag:noindex
X-PUBLISHED-TTL:PT1H
BEGIN:VTIMEZONE
TZID:UTC
BEGIN:STANDARD
TZOFFSETFROM:+0000
TZOFFSETTO:+0000
TZNAME:UTC
DTSTART:20260101T000000
END:STANDARD
END:VTIMEZONE
BEGIN:VEVENT
DTSTART;TZID=UTC:20271102T080000
DTEND;TZID=UTC:20271102T170000
DTSTAMP:20260424T140442
CREATED:20250103T200500Z
LAST-MODIFIED:20250103T200500Z
UID:39570-1825142400-1825174800@alcalanorte.com
SUMMARY:Holiday Magic Market
DESCRIPTION:For science\, music\, sport\, etc\, Europe uses the same vocabulary. The languages only differ in their grammar\, their pronunciation and their most common words. Everyone realizes why a new common language would be desirable: one could refuse to pay expensive translators. To achieve this\, it would be necessary to have uniform grammar\, pronunciation and more common words. If several languages coalesce\, the grammar of the resulting language is more simple and regular than that of the individual languages. The new common language will be more simple and regular than the existing European languages. It will be as simple as Occidental; in fact\, it will be Occidental. To an English person\, it will seem like simplified English\, as a skeptical Cambridge friend of mine told me what Occidental is. The European languages are members of the same family.
URL:https://alcalanorte.com/event/holiday-magic-market/
LOCATION:City Plaza\, 350 5th Ave\, New York\, NY\, 10118\, United States
CATEGORIES:Marca propia
ATTACH;FMTTYPE=image/webp:https://alcalanorte.com/wp-content/uploads/2025/05/64-event-6.webp
ORGANIZER;CN="Emma Thompson":MAILTO:email@example.com
END:VEVENT
BEGIN:VEVENT
DTSTART;TZID=UTC:20271105T080000
DTEND;TZID=UTC:20271105T170000
DTSTAMP:20260424T140442
CREATED:20250105T200512Z
LAST-MODIFIED:20250105T200512Z
UID:39572-1825401600-1825434000@alcalanorte.com
SUMMARY:Summer Nights Live: Music & More
DESCRIPTION:For science\, music\, sport\, etc\, Europe uses the same vocabulary. The languages only differ in their grammar\, their pronunciation and their most common words. Everyone realizes why a new common language would be desirable: one could refuse to pay expensive translators. To achieve this\, it would be necessary to have uniform grammar\, pronunciation and more common words. If several languages coalesce\, the grammar of the resulting language is more simple and regular than that of the individual languages. The new common language will be more simple and regular than the existing European languages. It will be as simple as Occidental; in fact\, it will be Occidental. To an English person\, it will seem like simplified English\, as a skeptical Cambridge friend of mine told me what Occidental is. The European languages are members of the same family.
URL:https://alcalanorte.com/event/summer-nights-live-music-more/
LOCATION:City Plaza\, 350 5th Ave\, New York\, NY\, 10118\, United States
CATEGORIES:Marca propia
ATTACH;FMTTYPE=image/webp:https://alcalanorte.com/wp-content/uploads/2025/05/64-event-4.webp
ORGANIZER;CN="Emma Thompson":MAILTO:email@example.com
END:VEVENT
BEGIN:VEVENT
DTSTART;TZID=UTC:20271110T080000
DTEND;TZID=UTC:20271110T170000
DTSTAMP:20260424T140442
CREATED:20250107T200523Z
LAST-MODIFIED:20250107T200523Z
UID:39574-1825833600-1825866000@alcalanorte.com
SUMMARY:Shop & Win: Mega Raffle Days
DESCRIPTION:For science\, music\, sport\, etc\, Europe uses the same vocabulary. The languages only differ in their grammar\, their pronunciation and their most common words. Everyone realizes why a new common language would be desirable: one could refuse to pay expensive translators. To achieve this\, it would be necessary to have uniform grammar\, pronunciation and more common words. If several languages coalesce\, the grammar of the resulting language is more simple and regular than that of the individual languages. The new common language will be more simple and regular than the existing European languages. It will be as simple as Occidental; in fact\, it will be Occidental. To an English person\, it will seem like simplified English\, as a skeptical Cambridge friend of mine told me what Occidental is. The European languages are members of the same family.
URL:https://alcalanorte.com/event/shop-win-mega-raffle-days/
LOCATION:City Plaza\, 350 5th Ave\, New York\, NY\, 10118\, United States
CATEGORIES:Franquicia
ATTACH;FMTTYPE=image/webp:https://alcalanorte.com/wp-content/uploads/2025/01/64-event-3.webp
ORGANIZER;CN="Emma Thompson":MAILTO:email@example.com
END:VEVENT
BEGIN:VEVENT
DTSTART;TZID=UTC:20271116T080000
DTEND;TZID=UTC:20271116T170000
DTSTAMP:20260424T140442
CREATED:20250110T200535Z
LAST-MODIFIED:20250110T200535Z
UID:39576-1826352000-1826384400@alcalanorte.com
SUMMARY:Family Fun Fiesta
DESCRIPTION:For science\, music\, sport\, etc\, Europe uses the same vocabulary. The languages only differ in their grammar\, their pronunciation and their most common words. Everyone realizes why a new common language would be desirable: one could refuse to pay expensive translators. To achieve this\, it would be necessary to have uniform grammar\, pronunciation and more common words. If several languages coalesce\, the grammar of the resulting language is more simple and regular than that of the individual languages. The new common language will be more simple and regular than the existing European languages. It will be as simple as Occidental; in fact\, it will be Occidental. To an English person\, it will seem like simplified English\, as a skeptical Cambridge friend of mine told me what Occidental is. The European languages are members of the same family.
URL:https://alcalanorte.com/event/family-fun-fiesta/
LOCATION:City Plaza\, 350 5th Ave\, New York\, NY\, 10118\, United States
CATEGORIES:Franquicia
ATTACH;FMTTYPE=image/webp:https://alcalanorte.com/wp-content/uploads/2025/05/64-event-5.webp
ORGANIZER;CN="Emma Thompson":MAILTO:email@example.com
END:VEVENT
BEGIN:VEVENT
DTSTART;TZID=UTC:20271121T080000
DTEND;TZID=UTC:20271121T170000
DTSTAMP:20260424T140442
CREATED:20250114T200545Z
LAST-MODIFIED:20250114T200545Z
UID:39578-1826784000-1826816400@alcalanorte.com
SUMMARY:Taste the City: Food Fest Weekend
DESCRIPTION:For science\, music\, sport\, etc\, Europe uses the same vocabulary. The languages only differ in their grammar\, their pronunciation and their most common words. Everyone realizes why a new common language would be desirable: one could refuse to pay expensive translators. To achieve this\, it would be necessary to have uniform grammar\, pronunciation and more common words. If several languages coalesce\, the grammar of the resulting language is more simple and regular than that of the individual languages. The new common language will be more simple and regular than the existing European languages. It will be as simple as Occidental; in fact\, it will be Occidental. To an English person\, it will seem like simplified English\, as a skeptical Cambridge friend of mine told me what Occidental is. The European languages are members of the same family.
URL:https://alcalanorte.com/event/taste-the-city-food-fest-weekend/
LOCATION:City Plaza\, 350 5th Ave\, New York\, NY\, 10118\, United States
CATEGORIES:Marca propia
ATTACH;FMTTYPE=image/webp:https://alcalanorte.com/wp-content/uploads/2025/01/64-event-2.webp
ORGANIZER;CN="Emma Thompson":MAILTO:email@example.com
END:VEVENT
BEGIN:VEVENT
DTSTART;TZID=UTC:20271124T080000
DTEND;TZID=UTC:20271128T170000
DTSTAMP:20260424T140442
CREATED:20250118T200615Z
LAST-MODIFIED:20251001T205849Z
UID:39580-1827043200-1827421200@alcalanorte.com
SUMMARY:¿Tienes una marca propia?
DESCRIPTION:Si has decidido crear tu propia marca\, en Alcalá Norte encontrarás el aliado perfecto: te ofrecemos asesoramiento\, un espacio estratégico en el corazón de Madrid y todas las herramientas necesarias para que tu proyecto crezca con fuerza y visibilidad desde el primer día.
URL:https://alcalanorte.com/event/tienes-una-marca-propia/
CATEGORIES:Marca propia
ATTACH;FMTTYPE=image/webp:https://alcalanorte.com/wp-content/uploads/2025/05/64-event-1.webp
END:VEVENT
END:VCALENDAR